BEGIN:VCALENDAR
VERSION:2.0
PRODID:-//Down Business Centre - ECPv6.15.20//NONSGML v1.0//EN
CALSCALE:GREGORIAN
METHOD:PUBLISH
X-WR-CALNAME:Down Business Centre
X-ORIGINAL-URL:https://downbc.co.uk
X-WR-CALDESC:Events for Down Business Centre
REFRESH-INTERVAL;VALUE=DURATION:PT1H
X-Robots-Tag:noindex
X-PUBLISHED-TTL:PT1H
BEGIN:VTIMEZONE
TZID:Europe/London
BEGIN:DAYLIGHT
TZOFFSETFROM:+0000
TZOFFSETTO:+0100
TZNAME:BST
DTSTART:20240331T010000
END:DAYLIGHT
BEGIN:STANDARD
TZOFFSETFROM:+0100
TZOFFSETTO:+0000
TZNAME:GMT
DTSTART:20241027T010000
END:STANDARD
BEGIN:DAYLIGHT
TZOFFSETFROM:+0000
TZOFFSETTO:+0100
TZNAME:BST
DTSTART:20250330T010000
END:DAYLIGHT
BEGIN:STANDARD
TZOFFSETFROM:+0100
TZOFFSETTO:+0000
TZNAME:GMT
DTSTART:20251026T010000
END:STANDARD
BEGIN:DAYLIGHT
TZOFFSETFROM:+0000
TZOFFSETTO:+0100
TZNAME:BST
DTSTART:20260329T010000
END:DAYLIGHT
BEGIN:STANDARD
TZOFFSETFROM:+0100
TZOFFSETTO:+0000
TZNAME:GMT
DTSTART:20261025T010000
END:STANDARD
END:VTIMEZONE
BEGIN:VEVENT
DTSTART;TZID=Europe/London:20250514T100000
DTEND;TZID=Europe/London:20250514T170000
DTSTAMP:20260423T155401
CREATED:20250321T144940Z
LAST-MODIFIED:20250321T144940Z
UID:8223-1747216800-1747242000@downbc.co.uk
SUMMARY:Fire Warden Training
DESCRIPTION:Fire Warden Training to be held at Down Business Centre 14th May at 10am \n£60 per person \nBook Now
URL:https://downbc.co.uk/event/fire-warden-training/
ATTACH;FMTTYPE=image/jpeg:https://downbc.co.uk/wp-content/uploads/2025/03/firewardentraining.jpg
ORGANIZER;CN="Down Business Centre":MAILTO:business@downbc.co.uk
END:VEVENT
BEGIN:VEVENT
DTSTART;TZID=Europe/London:20250514T180000
DTEND;TZID=Europe/London:20250514T193000
DTSTAMP:20260423T155401
CREATED:20250506T092720Z
LAST-MODIFIED:20250506T093605Z
UID:8413-1747245600-1747251000@downbc.co.uk
SUMMARY:Accessing Finance for Establishing Start Ups
DESCRIPTION:Business Events & Networking in NI | Go Succeed \nWed 14 May 2025 at 6:00PM\nABOUT THIS EVENT\n\nThe Go Succeed Start team hosts this workshop\, which is a focused webinar designed to assist small business owners\, entrepreneurs\, and start-ups in navigating the complex financing options available to small businesses. \nThis workshop provides participants valuable insights\, practical knowledge\, and actionable strategies to source and apply for the capital to start\, grow\, or sustain their small businesses successfully. The workshop is typically led by an experienced professional with significant experience in assisting entrepreneurs in accessing finance. It aims to increase your knowledge of: \n\nUnderstanding Financing Options.\nAssessing Financial Needs.\nCompleting a Personal assessment.\nCredit and Financing Eligibility.\nAlternative Financing Sources.\nApplication preparation and writing.\n\n“Thank you\, that was very informative\, and a lot of great info shared”. Business Owner. \nThis Go Succeed workshop is open to all individuals in the early stages of their business\, throughout Northern Ireland\, and is facilitated by Enterprise Northern Ireland. \n  \nAbout the Presenter \nPeter Hollingsworth has over twenty years of experience working with entrepreneurs across the UK. He holds master’s degrees in Business Administration (MBA)\, Business Economics\, and Marketing and is an SFEFI level five accredited Business and Enterprise Support Services Adviser and Trainer. \nRegistration instructions: This event is free for individuals and will be hosted online via MS Teams.  Please note\, your email confirmation\, Live Stream link and access code will come from noreply@glistrr.com\, please add this to your list of trusted accounts to prevent information landing in your junk folder. \nBook Now!!
URL:https://downbc.co.uk/event/accessing-finance-for-establishing-start-ups/
ATTACH;FMTTYPE=image/png:https://downbc.co.uk/wp-content/uploads/2025/05/Accessing-Finance-for-Establishing-Start-Ups-Square.png
END:VEVENT
END:VCALENDAR