BEGIN:VCALENDAR
VERSION:2.0
PRODID:-//Down Business Centre - ECPv6.15.20//NONSGML v1.0//EN
CALSCALE:GREGORIAN
METHOD:PUBLISH
X-WR-CALNAME:Down Business Centre
X-ORIGINAL-URL:https://downbc.co.uk
X-WR-CALDESC:Events for Down Business Centre
REFRESH-INTERVAL;VALUE=DURATION:PT1H
X-Robots-Tag:noindex
X-PUBLISHED-TTL:PT1H
BEGIN:VTIMEZONE
TZID:Europe/London
BEGIN:DAYLIGHT
TZOFFSETFROM:+0000
TZOFFSETTO:+0100
TZNAME:BST
DTSTART:20240331T010000
END:DAYLIGHT
BEGIN:STANDARD
TZOFFSETFROM:+0100
TZOFFSETTO:+0000
TZNAME:GMT
DTSTART:20241027T010000
END:STANDARD
BEGIN:DAYLIGHT
TZOFFSETFROM:+0000
TZOFFSETTO:+0100
TZNAME:BST
DTSTART:20250330T010000
END:DAYLIGHT
BEGIN:STANDARD
TZOFFSETFROM:+0100
TZOFFSETTO:+0000
TZNAME:GMT
DTSTART:20251026T010000
END:STANDARD
BEGIN:DAYLIGHT
TZOFFSETFROM:+0000
TZOFFSETTO:+0100
TZNAME:BST
DTSTART:20260329T010000
END:DAYLIGHT
BEGIN:STANDARD
TZOFFSETFROM:+0100
TZOFFSETTO:+0000
TZNAME:GMT
DTSTART:20261025T010000
END:STANDARD
END:VTIMEZONE
BEGIN:VEVENT
DTSTART;TZID=Europe/London:20250519T180000
DTEND;TZID=Europe/London:20250519T193000
DTSTAMP:20260423T142722
CREATED:20250506T093858Z
LAST-MODIFIED:20250506T093858Z
UID:8423-1747677600-1747683000@downbc.co.uk
SUMMARY:Building Your Start Up Business Plan
DESCRIPTION:Business Events & Networking in NI | Go Succeed \nMon 19 May 2025 at 6:00PM \nABOUT THIS EVENT\n\nThe Go Succeed Start team hosts this online structured session on developing\, refining\, and optimising your business plan. This workshop is designed for entrepreneurs\, start-ups\, and small business owners either in the early stages of their business journey or looking to enhance their existing business plans. Facilitated by an experienced business professional\, it aims to increase your knowledge of: \n\nUnderstanding the purpose of a business plan.\nClarity in setting business goals.\nConducting market research and validation and interpreting the results.\nOperational planning.\nPreparation for meeting with a business adviser.\nBusiness plan drafting.\nFinancial planning.\nSales Forecasting and cashflow.\n\n “Thank you – very informative webinar. Much appreciated. Fabulous – didn’t know about indexing…I’ll look into that”\, Business Owner. \nThis Go Succeed workshop is open to all individuals in the early stages of their business\, throughout Northern Ireland\, and is facilitated by Enterprise Northern Ireland. \n  \nAbout the Presenter \nPeter Hollingsworth has over twenty years of experience working with entrepreneurs across the UK. He holds master’s degrees in Business Administration (MBA)\, Business Economics\, and Marketing and is an SFEFI level five accredited Business and Enterprise Support Services Adviser and Trainer.  \nRegistration instructions: This event is free for individuals and will be hosted online via MS Teams. Please note\, your email confirmation\, Live Stream link and access code will come from noreply@glistrr.com\, please add this to your list of trusted accounts to prevent information landing in your junk folder.  \nBook Now!!
URL:https://downbc.co.uk/event/building-your-start-up-business-plan/
ATTACH;FMTTYPE=image/png:https://downbc.co.uk/wp-content/uploads/2025/05/Building-Your-Start-Up-Business-Plan-Square.png
END:VEVENT
END:VCALENDAR