BEGIN:VCALENDAR
VERSION:2.0
PRODID:-//Down Business Centre - ECPv6.15.20//NONSGML v1.0//EN
CALSCALE:GREGORIAN
METHOD:PUBLISH
X-WR-CALNAME:Down Business Centre
X-ORIGINAL-URL:https://downbc.co.uk
X-WR-CALDESC:Events for Down Business Centre
REFRESH-INTERVAL;VALUE=DURATION:PT1H
X-Robots-Tag:noindex
X-PUBLISHED-TTL:PT1H
BEGIN:VTIMEZONE
TZID:Europe/London
BEGIN:DAYLIGHT
TZOFFSETFROM:+0000
TZOFFSETTO:+0100
TZNAME:BST
DTSTART:20240331T010000
END:DAYLIGHT
BEGIN:STANDARD
TZOFFSETFROM:+0100
TZOFFSETTO:+0000
TZNAME:GMT
DTSTART:20241027T010000
END:STANDARD
BEGIN:DAYLIGHT
TZOFFSETFROM:+0000
TZOFFSETTO:+0100
TZNAME:BST
DTSTART:20250330T010000
END:DAYLIGHT
BEGIN:STANDARD
TZOFFSETFROM:+0100
TZOFFSETTO:+0000
TZNAME:GMT
DTSTART:20251026T010000
END:STANDARD
BEGIN:DAYLIGHT
TZOFFSETFROM:+0000
TZOFFSETTO:+0100
TZNAME:BST
DTSTART:20260329T010000
END:DAYLIGHT
BEGIN:STANDARD
TZOFFSETFROM:+0100
TZOFFSETTO:+0000
TZNAME:GMT
DTSTART:20261025T010000
END:STANDARD
END:VTIMEZONE
BEGIN:VEVENT
DTSTART;TZID=Europe/London:20250603T120000
DTEND;TZID=Europe/London:20250603T160000
DTSTAMP:20260423T130527
CREATED:20250328T142745Z
LAST-MODIFIED:20250328T142745Z
UID:8299-1748952000-1748966400@downbc.co.uk
SUMMARY:Training Needs to Training Plan Workshop
DESCRIPTION:Register Now! \n\nDo you want to create training plans that make a lasting impact? \nOur Training Needs to Training Plan workshops will help you design and implement tailored training plans that maximise your workforce’s potential while balancing time and cost. \n  \nWhat you’ll learn: \n\nHow to write clear and measurable training objectives.\nHow to budget effectively\, ensuring maximum value without overspending.\nTools and techniques to evaluate the impact of your training.\n\n  \nYou’ll also have the opportunity to share ideas\, connect with others and speak directly with our expert People and Skills team. \nPlease note: Training Needs to Training Plan workshops are the ideal follow-on for our Training Needs Analysis workshops but it is not mandatory to attend both. \n  \nWorkshop details: \nThe workshop will begin at 12:30 and finish at approximately 16:00\, with registration and lunch starting at 12:00 noon. \n\n\nIf you have already registered for this event\, you can view your registration details from the Booked Events page \n+ Register for Event
URL:https://downbc.co.uk/event/training-needs-to-training-plan-workshop/
LOCATION:Down Business Centre\, 46 Belfast Road\, Downpatrick\, Down\, BT30 9UP\, United Kingdom
ORGANIZER;CN="Down Business Centre":MAILTO:business@downbc.co.uk
END:VEVENT
END:VCALENDAR