BEGIN:VCALENDAR
VERSION:2.0
PRODID:-//Down Business Centre - ECPv6.15.20//NONSGML v1.0//EN
CALSCALE:GREGORIAN
METHOD:PUBLISH
X-ORIGINAL-URL:https://downbc.co.uk
X-WR-CALDESC:Events for Down Business Centre
REFRESH-INTERVAL;VALUE=DURATION:PT1H
X-Robots-Tag:noindex
X-PUBLISHED-TTL:PT1H
BEGIN:VTIMEZONE
TZID:Europe/London
BEGIN:DAYLIGHT
TZOFFSETFROM:+0000
TZOFFSETTO:+0100
TZNAME:BST
DTSTART:20240331T010000
END:DAYLIGHT
BEGIN:STANDARD
TZOFFSETFROM:+0100
TZOFFSETTO:+0000
TZNAME:GMT
DTSTART:20241027T010000
END:STANDARD
BEGIN:DAYLIGHT
TZOFFSETFROM:+0000
TZOFFSETTO:+0100
TZNAME:BST
DTSTART:20250330T010000
END:DAYLIGHT
BEGIN:STANDARD
TZOFFSETFROM:+0100
TZOFFSETTO:+0000
TZNAME:GMT
DTSTART:20251026T010000
END:STANDARD
BEGIN:DAYLIGHT
TZOFFSETFROM:+0000
TZOFFSETTO:+0100
TZNAME:BST
DTSTART:20260329T010000
END:DAYLIGHT
BEGIN:STANDARD
TZOFFSETFROM:+0100
TZOFFSETTO:+0000
TZNAME:GMT
DTSTART:20261025T010000
END:STANDARD
END:VTIMEZONE
BEGIN:VEVENT
DTSTART;TZID=Europe/London:20250911T090000
DTEND;TZID=Europe/London:20250911T110000
DTSTAMP:20260421T231457
CREATED:20250818T092250Z
LAST-MODIFIED:20250818T092250Z
UID:8736-1757581200-1757588400@downbc.co.uk
SUMMARY:Down Ladies Business Network Event
DESCRIPTION:Welcome to the Down Ladies Business Network Event! Join us for a day filled with networking\, learning\, and empowerment. Connect with like-minded individuals\, gain insights from inspiring speakers\, and grow your business network. This in-person event is a fantastic opportunity to expand your horizons and take your business to the next level. Don’t miss out on this exciting event! More details to follow…
URL:https://downbc.co.uk/event/down-ladies-business-network-event/
ATTACH;FMTTYPE=image/jpeg:https://downbc.co.uk/wp-content/uploads/2025/08/Screenshot_18-8-2025_101933_www.eventbrite.co_.uk_.jpeg
ORGANIZER;CN="Down Business Centre":MAILTO:business@downbc.co.uk
END:VEVENT
END:VCALENDAR