BEGIN:VCALENDAR
VERSION:2.0
PRODID:-//Down Business Centre - ECPv6.15.20//NONSGML v1.0//EN
CALSCALE:GREGORIAN
METHOD:PUBLISH
X-WR-CALNAME:Down Business Centre
X-ORIGINAL-URL:https://downbc.co.uk
X-WR-CALDESC:Events for Down Business Centre
REFRESH-INTERVAL;VALUE=DURATION:PT1H
X-Robots-Tag:noindex
X-PUBLISHED-TTL:PT1H
BEGIN:VTIMEZONE
TZID:Europe/London
BEGIN:DAYLIGHT
TZOFFSETFROM:+0000
TZOFFSETTO:+0100
TZNAME:BST
DTSTART:20250330T010000
END:DAYLIGHT
BEGIN:STANDARD
TZOFFSETFROM:+0100
TZOFFSETTO:+0000
TZNAME:GMT
DTSTART:20251026T010000
END:STANDARD
BEGIN:DAYLIGHT
TZOFFSETFROM:+0000
TZOFFSETTO:+0100
TZNAME:BST
DTSTART:20260329T010000
END:DAYLIGHT
BEGIN:STANDARD
TZOFFSETFROM:+0100
TZOFFSETTO:+0000
TZNAME:GMT
DTSTART:20261025T010000
END:STANDARD
BEGIN:DAYLIGHT
TZOFFSETFROM:+0000
TZOFFSETTO:+0100
TZNAME:BST
DTSTART:20270328T010000
END:DAYLIGHT
BEGIN:STANDARD
TZOFFSETFROM:+0100
TZOFFSETTO:+0000
TZNAME:GMT
DTSTART:20271031T010000
END:STANDARD
END:VTIMEZONE
BEGIN:VEVENT
DTSTART;TZID=Europe/London:20260114T090000
DTEND;TZID=Europe/London:20260114T170000
DTSTAMP:20260421T203107
CREATED:20251219T100136Z
LAST-MODIFIED:20251219T100136Z
UID:8872-1768381200-1768410000@downbc.co.uk
SUMMARY:Pop Up Co Working Day
DESCRIPTION:Beat the January Blues with a Pop-Up Co-Working Day at DBC ☕🥪\nStruggling to get back into the groove this January? \nShake off the January Blues and join us at Down Business Centre for a Pop-Up Co-Working Day. \nEnjoy a welcoming workspace\, Wi-Fi and the energy of working alongside other local professionals — with tea/coffee and lunch provided\, so you can focus on what matters most. \nWhether you’re a freelancer\, remote worker\, or small business owner\, this is the perfect chance to make new connections and start the year. \nBook Now
URL:https://downbc.co.uk/event/pop-up-co-working-day/
LOCATION:Down Business Centre\, 46 Belfast Road\, Downpatrick\, Down\, BT30 9UP\, United Kingdom
ATTACH;FMTTYPE=image/png:https://downbc.co.uk/wp-content/uploads/2025/12/Co-Work.png
ORGANIZER;CN="Down Business Centre":MAILTO:business@downbc.co.uk
END:VEVENT
BEGIN:VEVENT
DTSTART;TZID=Europe/London:20260123T093000
DTEND;TZID=Europe/London:20260123T110000
DTSTAMP:20260421T203107
CREATED:20251219T100521Z
LAST-MODIFIED:20251219T100521Z
UID:8885-1769160600-1769166000@downbc.co.uk
SUMMARY:Export Readiness
DESCRIPTION:Book Now \nWhether you’re just starting to explore export markets or looking to expand further\, this practical and interactive workshop will give you the clarity\, confidence and connections to succeed in international trade. \nThis 2.5-hour Export Readiness Workshop is designed to help businesses assess their readiness to export\, understand the opportunities available\, and develop a tailored action plan to support international growth. Through practical exercises\, case studies and guided discussion\, participants will gain the tools and knowledge needed to make exporting a viable growth strategy for their business. \nThe session covers key areas including export readiness\, market research and selection\, routes to market\, operational and compliance essentials\, and the wider export support ecosystem. Participants will also explore available supports and funding\, and learn how organisations such as Invest NI\, InterTradeIreland\, UK Export Finance and Go Succeed can support their export journey. \nThe workshop is highly interactive\, encouraging peer learning and reflection\, and concludes with participants developing a personalised Export Action Plan with clear priorities and next steps they can take forward immediately. \nBy the end of the workshop\, participants will: \n\nUnderstand the key drivers and challenges of exporting\nAssess their current export readiness\nIdentify and prioritise potential target markets\nExplore different routes to market and partnership options\nBuild awareness of operational\, compliance and financial considerations\nUnderstand the export support available locally and nationally\nLeave with a clear\, practical export action plan\n\nThis workshop is ideal for businesses at any stage of their export journey who want practical guidance and structured support to move forward with confidence. \nBook Now
URL:https://downbc.co.uk/event/export-readiness/
LOCATION:Down Business Centre\, 46 Belfast Road\, Downpatrick\, Down\, BT30 9UP\, United Kingdom
ATTACH;FMTTYPE=image/png:https://downbc.co.uk/wp-content/uploads/2025/12/2.png
ORGANIZER;CN="Down Business Centre":MAILTO:business@downbc.co.uk
END:VEVENT
BEGIN:VEVENT
DTSTART;TZID=Europe/London:20260129T100000
DTEND;TZID=Europe/London:20260129T120000
DTSTAMP:20260421T203107
CREATED:20251219T101129Z
LAST-MODIFIED:20251219T101129Z
UID:8894-1769680800-1769688000@downbc.co.uk
SUMMARY:Peer Support For Social Enterprises
DESCRIPTION:Book Now \nJoin SEEN – the Social Enterprise Empowerment Network; a series of thematic events for social enterprise businesses across the Newry\, Mourne and Down District Council area – designed to build confidence\, connection and momentum. \nThis network offers a supportive space for social enterprise leaders to connect with peers\, tackle self-doubt\, and access the support and opportunities available to them. \nWhat to expect: \n\nGuided peer discussions on shared challenges and mindset blocks\nClear signposting to available and relevant supports\nPractical confidence-boosting activities such as strengths mapping and peer reflection\n\n\nHonest conversations and networking\n\nWhat you’ll gain: \nGreater confidence in your leadership role\, stronger peer connections\, clearer awareness of available supports\, and a set of personal goals and confidence wins to take forward. \nIf you’re running a social enterprise and want to feel more confident\, connected and supported – the Social Enterprise Empowerment Network is for you.
URL:https://downbc.co.uk/event/peer-support-for-social-enterprises/
LOCATION:Down Business Centre\, 46 Belfast Road\, Downpatrick\, Down\, BT30 9UP\, United Kingdom
ATTACH;FMTTYPE=image/png:https://downbc.co.uk/wp-content/uploads/2025/12/3.png
ORGANIZER;CN="Down Business Centre":MAILTO:business@downbc.co.uk
END:VEVENT
BEGIN:VEVENT
DTSTART;TZID=Europe/London:20260130T093000
DTEND;TZID=Europe/London:20260130T110000
DTSTAMP:20260421T203107
CREATED:20251219T100900Z
LAST-MODIFIED:20251219T100900Z
UID:8890-1769765400-1769770800@downbc.co.uk
SUMMARY:January NetWalk
DESCRIPTION:Book Now \nNetwalks – Networking with a Difference \nNetwalks are a relaxed and informal way to connect with other business owners. Instead of the usual room full of name badges and introductions\, you simply turn up\, walk\, and have a chat. \nThis style of networking is ideal for: \n\nNew business owners – who may find traditional networking events overwhelming.\nBusiness owners who haven’t networked before – and want to ease into it in a friendly\, low-pressure way.\nThose thinking about starting a business – who want to “test the water” and get a feel for what networking is really like.\n\nWith no pressure\, no pitches\, and no formalities\, Netwalks provide a simple and welcoming way to make connections\, share ideas\, and build confidence in networking. They are also a great chance to step away from the desk\, enjoy some fresh air\, and get into nature – the perfect way to round off a busy week or month.
URL:https://downbc.co.uk/event/january-netwalk/
LOCATION:Finnebrogue Woods\, 26 Killyleagh Road\, Downpatrick\, Down\, BT30 9BL\, United Kingdom
ATTACH;FMTTYPE=image/png:https://downbc.co.uk/wp-content/uploads/2025/12/4.png
ORGANIZER;CN="Down Business Centre":MAILTO:business@downbc.co.uk
END:VEVENT
BEGIN:VEVENT
DTSTART;TZID=Europe/London:20260218T093000
DTEND;TZID=Europe/London:20260218T110000
DTSTAMP:20260421T203107
CREATED:20251219T101950Z
LAST-MODIFIED:20251219T122709Z
UID:8901-1771407000-1771412400@downbc.co.uk
SUMMARY:Sourcing for Success
DESCRIPTION:Book Now \nImporting Products for Resale in the UK: A Practical Guide\nThinking about importing products to sell in the UK but not sure where to start? This practical\, jargon-free session is designed to help you understand the realities of importing\, avoid costly mistakes\, and assess whether importing is right for your business. \nYou’ll learn how to choose profitable products\, find and vet reliable suppliers\, calculate true landed costs\, and navigate shipping\, customs\, VAT\, and compliance requirements. The session also covers storage\, fulfilment options\, and routes to market\, with a real-world case study showing how an imported product moves from factory to UK customer. \nBy the end of the session\, you will: \n\n\nUnderstand the end-to-end UK import process \n\n\nKnow how to assess product suitability and profitability \n\n\nBe aware of legal\, compliance\, and VAT requirements \n\n\nRecognise common pitfalls and how to avoid them \n\n\nFeel confident taking next steps towards importing for resale \n\n\nIdeal for: start-ups\, small business owners\, and anyone considering importing products for resale in the UK. \n  \n 
URL:https://downbc.co.uk/event/sourcing-for-success/
LOCATION:Down Business Centre\, 46 Belfast Road\, Downpatrick\, Down\, BT30 9UP\, United Kingdom
ATTACH;FMTTYPE=image/png:https://downbc.co.uk/wp-content/uploads/2025/12/6.png
ORGANIZER;CN="Down Business Centre":MAILTO:business@downbc.co.uk
END:VEVENT
BEGIN:VEVENT
DTSTART;TZID=Europe/London:20260227T093000
DTEND;TZID=Europe/London:20260227T110000
DTSTAMP:20260421T203107
CREATED:20251219T104751Z
LAST-MODIFIED:20251219T104751Z
UID:8904-1772184600-1772190000@downbc.co.uk
SUMMARY:February NetWalk
DESCRIPTION:Book Now \nNetwalks – Networking with a Difference \nNetwalks are a relaxed and informal way to connect with other business owners. Instead of the usual room full of name badges and introductions\, you simply turn up\, walk\, and have a chat. \nThis style of networking is ideal for: \n\nNew business owners – who may find traditional networking events overwhelming.\nBusiness owners who haven’t networked before – and want to ease into it in a friendly\, low-pressure way.\nThose thinking about starting a business – who want to “test the water” and get a feel for what networking is really like.\n\nWith no pressure\, no pitches\, and no formalities\, Netwalks provide a simple and welcoming way to make connections\, share ideas\, and build confidence in networking. They are also a great chance to step away from the desk\, enjoy some fresh air\, and get into nature – the perfect way to round off a busy week or month.
URL:https://downbc.co.uk/event/february-netwalk/
LOCATION:Finnebrogue Woods\, 26 Killyleagh Road\, Downpatrick\, Down\, BT30 9BL\, United Kingdom
ORGANIZER;CN="Down Business Centre":MAILTO:business@downbc.co.uk
END:VEVENT
BEGIN:VEVENT
DTSTART;TZID=Europe/London:20260304T093000
DTEND;TZID=Europe/London:20260304T120000
DTSTAMP:20260421T203107
CREATED:20251219T105059Z
LAST-MODIFIED:20251219T105059Z
UID:8907-1772616600-1772625600@downbc.co.uk
SUMMARY:International Womens Day
DESCRIPTION:Book Now \nMore information to follow.\nWe will have a range of Speakers on the day. All to be confirmed.
URL:https://downbc.co.uk/event/international-womens-day-2/
ATTACH;FMTTYPE=image/png:https://downbc.co.uk/wp-content/uploads/2025/12/9.png
ORGANIZER;CN="Down Business Centre":MAILTO:business@downbc.co.uk
END:VEVENT
END:VCALENDAR