BEGIN:VCALENDAR
VERSION:2.0
PRODID:-//Down Business Centre - ECPv6.15.20//NONSGML v1.0//EN
CALSCALE:GREGORIAN
METHOD:PUBLISH
X-WR-CALNAME:Down Business Centre
X-ORIGINAL-URL:https://downbc.co.uk
X-WR-CALDESC:Events for Down Business Centre
REFRESH-INTERVAL;VALUE=DURATION:PT1H
X-Robots-Tag:noindex
X-PUBLISHED-TTL:PT1H
BEGIN:VTIMEZONE
TZID:Europe/London
BEGIN:DAYLIGHT
TZOFFSETFROM:+0000
TZOFFSETTO:+0100
TZNAME:BST
DTSTART:20230326T010000
END:DAYLIGHT
BEGIN:STANDARD
TZOFFSETFROM:+0100
TZOFFSETTO:+0000
TZNAME:GMT
DTSTART:20231029T010000
END:STANDARD
BEGIN:DAYLIGHT
TZOFFSETFROM:+0000
TZOFFSETTO:+0100
TZNAME:BST
DTSTART:20240331T010000
END:DAYLIGHT
BEGIN:STANDARD
TZOFFSETFROM:+0100
TZOFFSETTO:+0000
TZNAME:GMT
DTSTART:20241027T010000
END:STANDARD
BEGIN:DAYLIGHT
TZOFFSETFROM:+0000
TZOFFSETTO:+0100
TZNAME:BST
DTSTART:20250330T010000
END:DAYLIGHT
BEGIN:STANDARD
TZOFFSETFROM:+0100
TZOFFSETTO:+0000
TZNAME:GMT
DTSTART:20251026T010000
END:STANDARD
BEGIN:DAYLIGHT
TZOFFSETFROM:+0000
TZOFFSETTO:+0100
TZNAME:BST
DTSTART:20260329T010000
END:DAYLIGHT
BEGIN:STANDARD
TZOFFSETFROM:+0100
TZOFFSETTO:+0000
TZNAME:GMT
DTSTART:20261025T010000
END:STANDARD
END:VTIMEZONE
BEGIN:VEVENT
DTSTART;TZID=Europe/London:20250417T093000
DTEND;TZID=Europe/London:20250417T110000
DTSTAMP:20260422T011713
CREATED:20250409T130710Z
LAST-MODIFIED:20250409T133347Z
UID:8320-1744882200-1744887600@downbc.co.uk
SUMMARY:Speed Connect
DESCRIPTION:  \nBook Now!! \n  \nThis event is designed to help you meet\, connect and collaborate with other business owners in the area. You have the opportunity to share who you are and what you do\, or whatever you want the other person to know. \nThis unique event offers:\n✔ A chance to connect with like-minded business owners\n✔ An opportunity to learn about other businesses in the area\n✔ A dynamic\, fast-paced format to make valuable introductions \nHere’s how it works: \n\nSpend 4 minutes one-on-one with another business owner\, sharing what your businesses do and how you can support each other.\nAfter the timer ends\, move on to the next connection.\nAt the end of the event\, enjoy informal networking to deepen conversations.\n\nThis will be charged at £10 per person \nThis is the ideal event for businesses to learn\, connect\, and grow together. Come curious and open to something different. \n\nBook Now!!
URL:https://downbc.co.uk/event/speed-connect-2/
LOCATION:Hillyard House Hotel\, 3-5 Castle Lane\, Castlewellan\, BT31 9DX\, United Kingdom
ATTACH;FMTTYPE=image/png:https://downbc.co.uk/wp-content/uploads/2025/04/speed-connect.png
ORGANIZER;CN="Down Business Centre":MAILTO:business@downbc.co.uk
END:VEVENT
BEGIN:VEVENT
DTSTART;TZID=Europe/London:20250328T093000
DTEND;TZID=Europe/London:20250328T110000
DTSTAMP:20260422T011713
CREATED:20250213T100326Z
LAST-MODIFIED:20250213T101753Z
UID:8197-1743154200-1743159600@downbc.co.uk
SUMMARY:Netwalk & Talk for the Arts Community
DESCRIPTION:NetWalk & Talk  Down Business Centre is working in partnership with Down Community Arts to provide an opportunity for the Arts and Creative community to network and collaborate through a NetWalk & Talk   \nArtists often work in solitary spaces\, pouring their energy into their craft. While this focus is vital for creating\, it can sometimes lead to isolation. Gathering as a creative community offers opportunities that go far beyond social interaction Artists shape the identity of a region\, and by connecting\, they ensure a thriving arts culture that inspires future generations. Creative Connections: East Down Arts Gathering Calling all creatives in the East Down region! Join us for an informal and inspiring get-together designed for artists\, makers\, creators and visionaries across the creative arts. \nHear from the talented Rene Mullen on her journey and some advice in networking and collaborating with other like minded individuals. \nThis relaxed event is all about: \nConnecting: Meet like-minded people in your local arts community. \nCollaborating: Explore opportunities to work together on exciting new projects. \nCreating: Share ideas and spark inspiration for future artistic ventures. \nWhether you’re a painter\, performer\, writer\, or craftsperson\, this is your chance to build meaningful connections and strengthen the creative arts community in East Down. Let’s network\, collaborate\, and create—together. \n📅 Date: 28th March 2025 \n📍 Location: Fodder NI\, Finnebrogue Woods \n🕒 Time: 9:30am- 11am \nTea/ Coffee provided\, please bring suitable walking shoes and dress for weather conditions on the day. \nBook Now!
URL:https://downbc.co.uk/event/netwalk-talk-for-the-arts-community-2/
LOCATION:Fodder\, 26 Killyleagh Road\, Downpatrick\, BT30 9BL\, United Kingdom
ATTACH;FMTTYPE=image/png:https://downbc.co.uk/wp-content/uploads/2025/01/Down-Business-Network-2.png
ORGANIZER;CN="Down Business Centre":MAILTO:business@downbc.co.uk
END:VEVENT
BEGIN:VEVENT
DTSTART;TZID=Europe/London:20250319T100000
DTEND;TZID=Europe/London:20250319T113000
DTSTAMP:20260422T011713
CREATED:20250228T133025Z
LAST-MODIFIED:20250228T133025Z
UID:8217-1742378400-1742383800@downbc.co.uk
SUMMARY:Get Found Online: Mastering SEO & AI Search for Your Business
DESCRIPTION:Book Now! \n  \nJonny Davison from Yarn Digital will demystify the world of search visibility for businesses. \n  \nLearn the key differences between traditional SEO and emerging AI search technologies and understand how these changes affect your digital presence. \n  \nThis session will equip you with: \n\nActionable strategies to improve your website’s visibility on Google\nPractical techniques to optimise for both traditional and AI-powered search\nSimple methods for effective keyword research and implementation\nGuidance on creating content that answers your customers’ questions\nEasy ways for local businesses to stand out in search results\n\nYou’ll leave with a toolkit of straightforward techniques you can implement immediately to help your business get found online. \n  \nPerfect for business owners\, entrepreneurs who want to boost their online visibility. \nEvent Date & Time: Wednesday 19th March 2025 | 10:00am – 11:30am | Refreshments provided \nLocation: Down Business Centre | Our training rooms comfortably hold around 20 people. \nBook Now!
URL:https://downbc.co.uk/event/get-found-online-mastering-seo-ai-search-for-your-business/
LOCATION:Down Business Centre\, 46 Belfast Road\, Downpatrick\, Down\, BT30 9UP\, United Kingdom
ATTACH;FMTTYPE=image/png:https://downbc.co.uk/wp-content/uploads/2025/02/GetFoundOnline.png
ORGANIZER;CN="Down Business Centre":MAILTO:business@downbc.co.uk
END:VEVENT
BEGIN:VEVENT
DTSTART;TZID=Europe/London:20250306T093000
DTEND;TZID=Europe/London:20250306T113000
DTSTAMP:20260422T011713
CREATED:20250211T115605Z
LAST-MODIFIED:20250217T173354Z
UID:8190-1741253400-1741260600@downbc.co.uk
SUMMARY:International Women's Day
DESCRIPTION:We are very excited to release our event for International Womens Day! 💃\n\n\n \n\n\nJoin us for International Womens Day!\n\n\n \n\n\n📆 Thursday 6th March 2025\n\n\n⏰9:30- 11:30am\n\n\n📍Fodder NI\n\n\n \n\n\nWe have a fabulous line up of speakers\, with a panel discussion and an interactive Q & A session\, followed by a self defence demonstration and recognition of local female talent from the sports community.\n\n\nIt will be a relaxed morning\, with an opportunity to network and connect with other females in the area.\n\n\nMore details to follow 😀\n\n\n \n\n\nPlaces are limited at this event so book early to avoid disappointment\n\n\nhttps://www.eventbrite.co.uk/e/1245946783369…\n\n  \n 
URL:https://downbc.co.uk/event/international-womens-day/
LOCATION:Fodder\, 26 Killyleagh Road\, Downpatrick\, BT30 9BL\, United Kingdom
ATTACH;FMTTYPE=image/png:https://downbc.co.uk/wp-content/uploads/2025/02/Insta-Release.png
ORGANIZER;CN="Down Business Centre":MAILTO:business@downbc.co.uk
END:VEVENT
BEGIN:VEVENT
DTSTART;TZID=Europe/London:20250228T093000
DTEND;TZID=Europe/London:20250228T110000
DTSTAMP:20260422T011713
CREATED:20250131T144348Z
LAST-MODIFIED:20250213T095850Z
UID:8154-1740735000-1740740400@downbc.co.uk
SUMMARY:Down Business Network_NetWalk
DESCRIPTION:Looking to expand your network and connect with like-minded people? \nJoin us at Down Business Centre for an informal networking event. Lets build a thriving business community in the East down region. \nThis relaxed gathering is the perfect opportunity to connect with other local business owners. Build your own network within the district and learn about what Down Business Centre can do for you and your business. \nNo speeches\, no formalities – just good conversations over light refreshments. Whether you’re an entrepreneur\, business owner\, or professional in the workplace\, come along and say hello! \nBook Now! \n📅 Date: 28th February\n⏰ Time: 9:30am- 11:00am\n📍 Venue: FodderNI\, Finnebrouge Woods
URL:https://downbc.co.uk/event/down-business-network_netwalk/
LOCATION:Fodder\, 26 Killyleagh Road\, Downpatrick\, BT30 9BL\, United Kingdom
ATTACH;FMTTYPE=image/jpeg:https://downbc.co.uk/wp-content/uploads/2025/01/DBN.jpg
ORGANIZER;CN="Down Business Centre":MAILTO:business@downbc.co.uk
END:VEVENT
BEGIN:VEVENT
DTSTART;TZID=Europe/London:20250219T090000
DTEND;TZID=Europe/London:20250219T173000
DTSTAMP:20260422T011713
CREATED:20250107T152521Z
LAST-MODIFIED:20250204T115318Z
UID:7997-1739955600-1739986200@downbc.co.uk
SUMMARY:Level 3 Award in Mental Health First Aid for the Workplace (2 day course) 19th & 26th February 2025
DESCRIPTION:For 18 year olds and over. 2 day course 19th and 26th February 2025 9am – 5.30pm\nA light lunch is included. \n£159.00 per person Book NOW! \nMental Health First Aid in the Workplace\nThe QA Level 3 Award in Mental Health First Aid in the Workplace (RQF) is a regulated and nationally recognised qualification that has been specifically designed for those who would like to raise their awareness of mental health\, develop an understanding on how to support\, reassure and signpost fellow colleagues to professional support.\nCourse Overview\nThroughout this 2-day course\, Learners will develop the knowledge\, skills and confidence to actively promote positive mental health in the workplace by covering a range of topics\, including: understanding mental health and its importance\, own wellbeing as a mental health first aider\, how to support those experiencing poor mental health at work and common mental health conditions i.e. \n\nWork related stress\nAnxiety\nEating disorders\nDepression\nPTSD\nOCD\nPhobias\nBipolar\nPsychosis\nSuicide\nSelf harm\n\n 
URL:https://downbc.co.uk/event/level-3-award-in-mental-health-first-aid-for-the-workplace-2-day-course-19th-26th-february-2025/
LOCATION:Down Business Centre\, 46 Belfast Road\, Downpatrick\, Down\, BT30 9UP\, United Kingdom
ATTACH;FMTTYPE=image/png:https://downbc.co.uk/wp-content/uploads/2025/01/Image.png
ORGANIZER;CN="Down Business Centre":MAILTO:business@downbc.co.uk
END:VEVENT
BEGIN:VEVENT
DTSTART;TZID=Europe/London:20250214T093000
DTEND;TZID=Europe/London:20250214T110000
DTSTAMP:20260422T011713
CREATED:20250131T144022Z
LAST-MODIFIED:20250131T144022Z
UID:8148-1739525400-1739530800@downbc.co.uk
SUMMARY:Speed Connect
DESCRIPTION:Ever been to a networking event and don’t get talking to everyone that you want to? Its annoying isnt it? \nJoin us for an engaging Speed Connect\, and we will make sure you connect with everyone in the room! \nThis event is designed to help you meet\, connect and collaborate with other business owners in the area.  You have the opportunity to share who you are and what you do\, or whatever you want the other person to know. \nThis unique event offers:\n✔ A chance to connect with like-minded business owners\n✔ An opportunity to learn about other businesses in the area\n✔ A dynamic\, fast-paced format to make valuable introductions \nHere’s how it works: \n\nSpend 4 minutes one-on-one with another business owner\, sharing what your businesses do and how you can support each other.\nAfter the timer ends\, move on to the next connection.\nAt the end of the event\, enjoy informal networking to deepen conversations.\n\n📅 Date: 14th February 2025\n📍 Venue: The Barn Country Bar & Restaurant\, Saul\, Downpatrick\n☕ Extras: Light refreshments and plenty of collaborative energy! \nThis is the ideal event for businesses to learn\, connect\, and grow together. Come curious and open to something different. \nRegister your place 
URL:https://downbc.co.uk/event/speed-connect/
LOCATION:The Barn Country Bar & Restaurant\, 37 Mearne Road\, Downpatrick\, bt30 6SY
ATTACH;FMTTYPE=image/jpeg:https://downbc.co.uk/wp-content/uploads/2025/01/Speed-Connect.jpg
ORGANIZER;CN="Down Business Centre":MAILTO:business@downbc.co.uk
END:VEVENT
BEGIN:VEVENT
DTSTART;TZID=Europe/London:20250131T093000
DTEND;TZID=Europe/London:20250131T110000
DTSTAMP:20260422T011713
CREATED:20250107T151031Z
LAST-MODIFIED:20250114T165801Z
UID:7993-1738315800-1738321200@downbc.co.uk
SUMMARY:NetWalk & Talk for the Arts Community
DESCRIPTION:NetWalk & Talk  Down Business Centre is working in partnership with Down Community Arts to provide an opportunity for the Arts and Creative community to network and collaborate through a NetWalk & Talk   \nArtists often work in solitary spaces\, pouring their energy into their craft. While this focus is vital for creating\, it can sometimes lead to isolation. Gathering as a creative community offers opportunities that go far beyond social interaction Artists shape the identity of a region\, and by connecting\, they ensure a thriving arts culture that inspires future generations. Creative Connections: East Down Arts Gathering Calling all creatives in the East Down region! Join us for an informal and inspiring get-together designed for artists\, makers\, creators and visionaries across the creative arts. \nHear from the talented Rene Mullen on her journey and some advice in networking and collaborating with other like minded individuals. \nThis relaxed event is all about: \nConnecting: Meet like-minded people in your local arts community. \nCollaborating: Explore opportunities to work together on exciting new projects. \nCreating: Share ideas and spark inspiration for future artistic ventures. \nWhether you’re a painter\, performer\, writer\, or craftsperson\, this is your chance to build meaningful connections and strengthen the creative arts community in East Down. Let’s network\, collaborate\, and create—together. \n📅 Date: 31st January 2025 \n📍 Location: Fodder NI\, Finnebrogue Woods \n🕒 Time: 9:30am- 11am \nTea/ Coffee provided\, please bring suitable walking shoes and dress for weather conditions on the day. \nBook Now!   \n  \n 
URL:https://downbc.co.uk/event/netwalk-talk-for-the-arts-community/
LOCATION:Fodder\, 26 Killyleagh Road\, Downpatrick\, BT30 9BL\, United Kingdom
ATTACH;FMTTYPE=image/png:https://downbc.co.uk/wp-content/uploads/2025/01/Down-Business-Network-1.png
ORGANIZER;CN="Down Business Centre":MAILTO:business@downbc.co.uk
END:VEVENT
BEGIN:VEVENT
DTSTART;TZID=Europe/London:20250127T094500
DTEND;TZID=Europe/London:20250127T164500
DTSTAMP:20260422T011713
CREATED:20250107T105043Z
LAST-MODIFIED:20250109T135201Z
UID:7976-1737971100-1737996300@downbc.co.uk
SUMMARY:Emergency First Aid at Work
DESCRIPTION:Learn essential Emergency First Aid at Work. Price includes registration with awarding body\, course manual\, and on successful completion of a multiple choice assessment an electronic certificate from the awarding body. \n£65 per person \nBook Now!
URL:https://downbc.co.uk/event/emergency-first-aid-at-work/
LOCATION:Down Business Centre\, 46 Belfast Road\, Downpatrick\, Down\, BT30 9UP\, United Kingdom
ATTACH;FMTTYPE=image/jpeg:https://downbc.co.uk/wp-content/uploads/2025/01/Emergency-First-Aid-at-Work.jpg
ORGANIZER;CN="Down Business Centre":MAILTO:business@downbc.co.uk
END:VEVENT
BEGIN:VEVENT
DTSTART;TZID=Europe/London:20250122T100000
DTEND;TZID=Europe/London:20250122T150000
DTSTAMP:20260422T011713
CREATED:20250107T122052Z
LAST-MODIFIED:20250114T165933Z
UID:7981-1737540000-1737558000@downbc.co.uk
SUMMARY:Go Succeed on Tour- Saintfield
DESCRIPTION:Down Business Centre is hitting the streets of Saintfield to engage with the business community in the Saintfield and Rowallane area.  \n2025 is going to be a challenging year ahead for businesses so Down Business Centre want to do all we can to support the business community. \nWe will  hold a drop in clinic for anyone that wants to access more information about business support available to local businesses. Register and you will have an opportunity to speak to one of our advisors.  \n📅 Date: Wednesday 22nd January📍 Location: Alexander Reid & Fraser Offices\, 68 Main Street\, Saintfield\, BT24 7AB🕒 Time: 1pm- 3pm \nRegister here  to speak to one of our Business Advisors \n\n 
URL:https://downbc.co.uk/event/go-succeed-on-tour-saintfield/
LOCATION:68 Main Street\, Saintfield\, BT24 7AB\, 68 Main Street\, Saintfield\, BT24 7AB\, United Kingdom
ATTACH;FMTTYPE=image/png:https://downbc.co.uk/wp-content/uploads/2025/01/Go-Succeed-on-Tour-Saintfield.png
ORGANIZER;CN="Down Business Centre":MAILTO:business@downbc.co.uk
END:VEVENT
BEGIN:VEVENT
DTSTART;TZID=Europe/London:20250121T093000
DTEND;TZID=Europe/London:20250121T110000
DTSTAMP:20260422T011713
CREATED:20250113T093027Z
LAST-MODIFIED:20250120T133625Z
UID:8019-1737451800-1737457200@downbc.co.uk
SUMMARY:Business Support for Trading Businesses
DESCRIPTION:Take Your Business to the Next Level with Down Business Centre and the Go Succeed Programme!\nAre you a trading business with 2+ years of experience looking to grow or tackle challenges in a specialist area? We are particularly interested in businesses from the hospitality\, food and tourism industry\, retail and the fitness industry. \nCome along to Down Business Centre’s Information Day to discover the support available to help your business grow. \n📅 Date: 21st  January 2025\n⏰ Time: 9:30 AM – 11:00 AM\n📍 Location: St Patricks Centre\, Market Street\, Downpatrick. \nThis informative session is designed for established businesses wanting to grow\, or recruit employees. Learn how the Go Succeed Programme can help you. We will also provide attendees with information into other business support initiatives\, grants\, and funding options you can access to support your business. \nYou will have an opportunity to meet our business advisors\, and find out what Down Business Centre can do for you and your business. We look forward to welcoming you this information day To register your attendance-click on the link in the section below   Getting down to business with Down Business Centre. \nRegister Your Place
URL:https://downbc.co.uk/event/business-support-for-trading-businesses/
ATTACH;FMTTYPE=image/jpeg:https://downbc.co.uk/wp-content/uploads/2025/01/Trading-Businesses.jpg
END:VEVENT
BEGIN:VEVENT
DTSTART;TZID=Europe/London:20250110T100000
DTEND;TZID=Europe/London:20250110T113000
DTSTAMP:20260422T011713
CREATED:20250107T102033Z
LAST-MODIFIED:20250109T134636Z
UID:7968-1736503200-1736508600@downbc.co.uk
SUMMARY:Peer Support Network- Professional Services
DESCRIPTION:Insights & Connections for Professional Services\nPanel Discussion & Peer Insight Circle @ DBC \nDown Business Centre is delighted to host a series of Peer Support Network events designed exclusively for professional services businesses.  This is your opportunity to connect\, collaborate\, and build a supportive community with fellow professionals in a relaxed setting. \nJoin us for an engaging morning of insights\, discussion\, and networking at Down Business Centre! This event features: \n\nPanel Discussion: Hear from 2-3 local business leaders and specialists in how to unlock your potential and be the best version of yourself\nPeer Insight Circle: Break out into smaller groups to share perspectives\, key takeaways\, and real-world experiences with peers.\nNetworking Mixer: Wrap up the morning with informal networking\, fostering deeper connections and collaborations.\n\nEvent Details \nWhen: Friday 10th January @ 10:00am – 11:30am\nWhere:  Down Business Centre\nOur chosen venue is fully accessible\, ensuring that everyone can join us for an inclusive experience. Parking is available on site. \nWhether you’re looking for expert advice\, peer support\, or new business relationships\, this event offers a unique blend of learning and community-building. \n📩 Reserve your spot now and kick off 2025 with fresh insights and connections! \nBook NOW!
URL:https://downbc.co.uk/event/peer-support-network-professional-services/
LOCATION:Down Business Centre\, 46 Belfast Road\, Downpatrick\, Down\, BT30 9UP\, United Kingdom
ATTACH;FMTTYPE=image/jpeg:https://downbc.co.uk/wp-content/uploads/2025/01/09.01.2024_Event.jpg
ORGANIZER;CN="Down Business Centre":MAILTO:business@downbc.co.uk
END:VEVENT
BEGIN:VEVENT
DTSTART;TZID=Europe/London:20241213T093000
DTEND;TZID=Europe/London:20241213T120000
DTSTAMP:20260422T011713
CREATED:20241204T092637Z
LAST-MODIFIED:20250114T121436Z
UID:7916-1734082200-1734091200@downbc.co.uk
SUMMARY:NetWalk at Fodder NI
DESCRIPTION:Book online using the organiser’s website or by clicking here.
URL:https://downbc.co.uk/event/netwalk-at-fodder-ni/
END:VEVENT
END:VCALENDAR