BEGIN:VCALENDAR
VERSION:2.0
PRODID:-//Down Business Centre - ECPv6.15.20//NONSGML v1.0//EN
CALSCALE:GREGORIAN
METHOD:PUBLISH
X-ORIGINAL-URL:https://downbc.co.uk
X-WR-CALDESC:Events for Down Business Centre
REFRESH-INTERVAL;VALUE=DURATION:PT1H
X-Robots-Tag:noindex
X-PUBLISHED-TTL:PT1H
BEGIN:VTIMEZONE
TZID:Europe/London
BEGIN:DAYLIGHT
TZOFFSETFROM:+0000
TZOFFSETTO:+0100
TZNAME:BST
DTSTART:20240331T010000
END:DAYLIGHT
BEGIN:STANDARD
TZOFFSETFROM:+0100
TZOFFSETTO:+0000
TZNAME:GMT
DTSTART:20241027T010000
END:STANDARD
BEGIN:DAYLIGHT
TZOFFSETFROM:+0000
TZOFFSETTO:+0100
TZNAME:BST
DTSTART:20250330T010000
END:DAYLIGHT
BEGIN:STANDARD
TZOFFSETFROM:+0100
TZOFFSETTO:+0000
TZNAME:GMT
DTSTART:20251026T010000
END:STANDARD
BEGIN:DAYLIGHT
TZOFFSETFROM:+0000
TZOFFSETTO:+0100
TZNAME:BST
DTSTART:20260329T010000
END:DAYLIGHT
BEGIN:STANDARD
TZOFFSETFROM:+0100
TZOFFSETTO:+0000
TZNAME:GMT
DTSTART:20261025T010000
END:STANDARD
END:VTIMEZONE
BEGIN:VEVENT
DTSTART;TZID=Europe/London:20250417T093000
DTEND;TZID=Europe/London:20250417T110000
DTSTAMP:20260423T222631
CREATED:20250409T130710Z
LAST-MODIFIED:20250409T133347Z
UID:8320-1744882200-1744887600@downbc.co.uk
SUMMARY:Speed Connect
DESCRIPTION:  \nBook Now!! \n  \nThis event is designed to help you meet\, connect and collaborate with other business owners in the area. You have the opportunity to share who you are and what you do\, or whatever you want the other person to know. \nThis unique event offers:\n✔ A chance to connect with like-minded business owners\n✔ An opportunity to learn about other businesses in the area\n✔ A dynamic\, fast-paced format to make valuable introductions \nHere’s how it works: \n\nSpend 4 minutes one-on-one with another business owner\, sharing what your businesses do and how you can support each other.\nAfter the timer ends\, move on to the next connection.\nAt the end of the event\, enjoy informal networking to deepen conversations.\n\nThis will be charged at £10 per person \nThis is the ideal event for businesses to learn\, connect\, and grow together. Come curious and open to something different. \n\nBook Now!!
URL:https://downbc.co.uk/event/speed-connect-2/
LOCATION:Hillyard House Hotel\, 3-5 Castle Lane\, Castlewellan\, BT31 9DX\, United Kingdom
ATTACH;FMTTYPE=image/png:https://downbc.co.uk/wp-content/uploads/2025/04/speed-connect.png
ORGANIZER;CN="Down Business Centre":MAILTO:business@downbc.co.uk
END:VEVENT
END:VCALENDAR