BEGIN:VCALENDAR
VERSION:2.0
PRODID:-//Down Business Centre - ECPv6.15.20//NONSGML v1.0//EN
CALSCALE:GREGORIAN
METHOD:PUBLISH
X-WR-CALNAME:Down Business Centre
X-ORIGINAL-URL:https://downbc.co.uk
X-WR-CALDESC:Events for Down Business Centre
REFRESH-INTERVAL;VALUE=DURATION:PT1H
X-Robots-Tag:noindex
X-PUBLISHED-TTL:PT1H
BEGIN:VTIMEZONE
TZID:Europe/London
BEGIN:DAYLIGHT
TZOFFSETFROM:+0000
TZOFFSETTO:+0100
TZNAME:BST
DTSTART:20240331T010000
END:DAYLIGHT
BEGIN:STANDARD
TZOFFSETFROM:+0100
TZOFFSETTO:+0000
TZNAME:GMT
DTSTART:20241027T010000
END:STANDARD
BEGIN:DAYLIGHT
TZOFFSETFROM:+0000
TZOFFSETTO:+0100
TZNAME:BST
DTSTART:20250330T010000
END:DAYLIGHT
BEGIN:STANDARD
TZOFFSETFROM:+0100
TZOFFSETTO:+0000
TZNAME:GMT
DTSTART:20251026T010000
END:STANDARD
BEGIN:DAYLIGHT
TZOFFSETFROM:+0000
TZOFFSETTO:+0100
TZNAME:BST
DTSTART:20260329T010000
END:DAYLIGHT
BEGIN:STANDARD
TZOFFSETFROM:+0100
TZOFFSETTO:+0000
TZNAME:GMT
DTSTART:20261025T010000
END:STANDARD
END:VTIMEZONE
BEGIN:VEVENT
DTSTART;TZID=Europe/London:20250603T120000
DTEND;TZID=Europe/London:20250603T160000
DTSTAMP:20260423T113728
CREATED:20250328T142745Z
LAST-MODIFIED:20250328T142745Z
UID:8299-1748952000-1748966400@downbc.co.uk
SUMMARY:Training Needs to Training Plan Workshop
DESCRIPTION:Register Now! \n\nDo you want to create training plans that make a lasting impact? \nOur Training Needs to Training Plan workshops will help you design and implement tailored training plans that maximise your workforce’s potential while balancing time and cost. \n  \nWhat you’ll learn: \n\nHow to write clear and measurable training objectives.\nHow to budget effectively\, ensuring maximum value without overspending.\nTools and techniques to evaluate the impact of your training.\n\n  \nYou’ll also have the opportunity to share ideas\, connect with others and speak directly with our expert People and Skills team. \nPlease note: Training Needs to Training Plan workshops are the ideal follow-on for our Training Needs Analysis workshops but it is not mandatory to attend both. \n  \nWorkshop details: \nThe workshop will begin at 12:30 and finish at approximately 16:00\, with registration and lunch starting at 12:00 noon. \n\n\nIf you have already registered for this event\, you can view your registration details from the Booked Events page \n+ Register for Event
URL:https://downbc.co.uk/event/training-needs-to-training-plan-workshop/
LOCATION:Down Business Centre\, 46 Belfast Road\, Downpatrick\, Down\, BT30 9UP\, United Kingdom
ORGANIZER;CN="Down Business Centre":MAILTO:business@downbc.co.uk
END:VEVENT
BEGIN:VEVENT
DTSTART;TZID=Europe/London:20250609T093000
DTEND;TZID=Europe/London:20250609T164500
DTSTAMP:20260423T113728
CREATED:20250203T120820Z
LAST-MODIFIED:20250203T120902Z
UID:8158-1749461400-1749487500@downbc.co.uk
SUMMARY:Emergency First Aid at Work
DESCRIPTION:Price includes registration with awarding body\, course manual\, and on successful completion of a multiple choice assessment an electronic certificate from the awarding body.
URL:https://downbc.co.uk/event/emergency-first-aid-at-work-2/
LOCATION:Down Business Centre\, 46 Belfast Road\, Downpatrick\, Down\, BT30 9UP\, United Kingdom
ATTACH;FMTTYPE=image/png:https://downbc.co.uk/wp-content/uploads/2025/02/Learn-Emergency-First-Aid-at-Work-Effectively.png
ORGANIZER;CN="Down Business Centre":MAILTO:business@downbc.co.uk
END:VEVENT
BEGIN:VEVENT
DTSTART;TZID=Europe/London:20250611T093000
DTEND;TZID=Europe/London:20250611T103000
DTSTAMP:20260423T113728
CREATED:20250528T125418Z
LAST-MODIFIED:20250528T161102Z
UID:8640-1749634200-1749637800@downbc.co.uk
SUMMARY:Mastering HMRC Self Assessment: A Step-by- Step Guide for Individuals
DESCRIPTION:Book Now!! \n11th June 2025   \n9.30am – 11am \nDown Business Centre \nMastering HMRC Self Assessment: A Step-by-Step Guide for Individuals \nTarget Audience: Individuals new to Self Assessment\, self-employed\, landlords\, or those with additional income \nTopics covered at the webinar:- \n\nWho needs to complete a Self-Assessment Tax Return\nRegistering with HMRC\nKey Deadlines & Filing Methods\nRecord-Keeping Essentials\nWhat to include in your Tax Return\nAllowable Expenses and Reliefs\nCalculating and Paying Your Tax\nCommon Mistakes and How to Avoid Them\nTools\, Help and Support\nQ&A Session\n\n  \n  \nBook Now!
URL:https://downbc.co.uk/event/mastering-hmrc-self-assessment/
LOCATION:Down Business Centre\, 46 Belfast Road\, Downpatrick\, Down\, BT30 9UP\, United Kingdom
CATEGORIES:Training
ATTACH;FMTTYPE=image/jpeg:https://downbc.co.uk/wp-content/uploads/2025/05/3_self_assessment._gulpa.jpg
END:VEVENT
BEGIN:VEVENT
DTSTART;TZID=Europe/London:20250618T130000
DTEND;TZID=Europe/London:20250618T153000
DTSTAMP:20260423T113728
CREATED:20250605T104017Z
LAST-MODIFIED:20250605T105848Z
UID:8660-1750251600-1750260600@downbc.co.uk
SUMMARY:Ladies' Business Day
DESCRIPTION:Book Now! \nWe will have a fabulous guest speaker to inspire you. \nAll sorts of taster sessions yet to be confirmed . \nWill it be Yoga? \nWill it be a Sound Bath? \nWill it be a Cold Water Dip? \nYou can be sure it WILL BE great fun! \nBook Now!
URL:https://downbc.co.uk/event/ladies-business-day/
LOCATION:Ballyhornan Scout Hall\, Rocks Road\, Ballyhornan\, BT30 7PJ
CATEGORIES:Networking
ATTACH;FMTTYPE=image/png:https://downbc.co.uk/wp-content/uploads/2025/06/Ladies-Day-e1749119981632.png
ORGANIZER;CN="Down Business Centre":MAILTO:business@downbc.co.uk
END:VEVENT
BEGIN:VEVENT
DTSTART;TZID=Europe/London:20250630T093000
DTEND;TZID=Europe/London:20250630T110000
DTSTAMP:20260423T113728
CREATED:20250620T112949Z
LAST-MODIFIED:20250620T113016Z
UID:8681-1751275800-1751281200@downbc.co.uk
SUMMARY:AI for Business – Made Simple!
DESCRIPTION:We are running a Go Succeed Masterclass at Down Business Centre. This is one NOT to miss! \nAI is present in our world so lets demystify the myths and embrace AI and find out how it can make our lives easier and how it can support and grow your business! \nJoin us for an in-person masterclass:\nAI for Business – Made Simple!\nDelivered in partnership with Rosemary Morrison and Down Business Centre\, this session is designed to give business owners a clear\, practical introduction to using AI — today\, not tomorrow. \n  \n📅 Event Details: \nDate: Monday 30 June 2025\nTime: 9:30 AM – 11:00 AM\nLocation: Down Business Centre\, Downpatrick\n🎟 Register now: https://www.glistrr.com/events/e/ai-for-business-made-simple-3586-756 \n  \nHope to see you there!
URL:https://downbc.co.uk/event/ai-for-business-made-simple/
LOCATION:Down Business Centre\, 46 Belfast Road\, Downpatrick\, Down\, BT30 9UP\, United Kingdom
ATTACH;FMTTYPE=image/png:https://downbc.co.uk/wp-content/uploads/2025/06/AI-for-Business-Made-Simple-Instagram.png
END:VEVENT
END:VCALENDAR